BEGIN:VCALENDAR
VERSION:2.0
PRODID:-//Familjen Norberg - ECPv6.6.4.2//NONSGML v1.0//EN
CALSCALE:GREGORIAN
METHOD:PUBLISH
X-WR-CALNAME:Familjen Norberg
X-ORIGINAL-URL:https://www.familjennorberg.se
X-WR-CALDESC:Events for Familjen Norberg
REFRESH-INTERVAL;VALUE=DURATION:PT1H
X-Robots-Tag:noindex
X-PUBLISHED-TTL:PT1H
BEGIN:VTIMEZONE
TZID:Europe/Paris
BEGIN:DAYLIGHT
TZOFFSETFROM:+0100
TZOFFSETTO:+0200
TZNAME:CEST
DTSTART:20220327T010000
END:DAYLIGHT
BEGIN:STANDARD
TZOFFSETFROM:+0200
TZOFFSETTO:+0100
TZNAME:CET
DTSTART:20221030T010000
END:STANDARD
BEGIN:DAYLIGHT
TZOFFSETFROM:+0100
TZOFFSETTO:+0200
TZNAME:CEST
DTSTART:20230326T010000
END:DAYLIGHT
BEGIN:STANDARD
TZOFFSETFROM:+0200
TZOFFSETTO:+0100
TZNAME:CET
DTSTART:20231029T010000
END:STANDARD
BEGIN:DAYLIGHT
TZOFFSETFROM:+0100
TZOFFSETTO:+0200
TZNAME:CEST
DTSTART:20240331T010000
END:DAYLIGHT
BEGIN:STANDARD
TZOFFSETFROM:+0200
TZOFFSETTO:+0100
TZNAME:CET
DTSTART:20241027T010000
END:STANDARD
BEGIN:DAYLIGHT
TZOFFSETFROM:+0100
TZOFFSETTO:+0200
TZNAME:CEST
DTSTART:20250330T010000
END:DAYLIGHT
BEGIN:STANDARD
TZOFFSETFROM:+0200
TZOFFSETTO:+0100
TZNAME:CET
DTSTART:20251026T010000
END:STANDARD
END:VTIMEZONE
BEGIN:VEVENT
DTSTART;VALUE=DATE:20250916
DTEND;VALUE=DATE:20251016
DTSTAMP:20260425T185325
CREATED:20250525T181040Z
LAST-MODIFIED:20250525T181040Z
UID:1767-1757980800-1760572799@www.familjennorberg.se
SUMMARY:Ingegerd
DESCRIPTION:Dela detta:FacebookLinkedInE-postTwitterMerPinterestSkriv utTumblrRedditGilla detta:Gilla Laddar in …
URL:https://www.familjennorberg.se/event/ingegerd/
END:VEVENT
BEGIN:VEVENT
DTSTART;VALUE=DATE:20250811
DTEND;VALUE=DATE:20250904
DTSTAMP:20260425T185325
CREATED:20250210T145500Z
LAST-MODIFIED:20250210T145500Z
UID:1734-1754870400-1756943999@www.familjennorberg.se
SUMMARY:Norberg
DESCRIPTION:Dela detta:FacebookLinkedInE-postTwitterMerPinterestSkriv utTumblrRedditGilla detta:Gilla Laddar in …
URL:https://www.familjennorberg.se/event/norberg-5/
END:VEVENT
BEGIN:VEVENT
DTSTART;TZID=Europe/Paris:20250708T203000
DTEND;TZID=Europe/Paris:20250715T200000
DTSTAMP:20260425T185325
CREATED:20250512T183813Z
LAST-MODIFIED:20250512T183813Z
UID:1764-1752006600-1752609600@www.familjennorberg.se
SUMMARY:Jens
DESCRIPTION:Dela detta:FacebookLinkedInE-postTwitterMerPinterestSkriv utTumblrRedditGilla detta:Gilla Laddar in …
URL:https://www.familjennorberg.se/event/jens/
END:VEVENT
BEGIN:VEVENT
DTSTART;VALUE=DATE:20250619
DTEND;VALUE=DATE:20250627
DTSTAMP:20260425T185325
CREATED:20250216T104231Z
LAST-MODIFIED:20250216T104231Z
UID:1739-1750291200-1750982399@www.familjennorberg.se
SUMMARY:Stefan
DESCRIPTION:Dela detta:FacebookLinkedInE-postTwitterMerPinterestSkriv utTumblrRedditGilla detta:Gilla Laddar in …
URL:https://www.familjennorberg.se/event/stefan-2/
END:VEVENT
BEGIN:VEVENT
DTSTART;VALUE=DATE:20250510
DTEND;VALUE=DATE:20250519
DTSTAMP:20260425T185325
CREATED:20250210T145243Z
LAST-MODIFIED:20250210T145243Z
UID:1732-1746835200-1747612799@www.familjennorberg.se
SUMMARY:Norberg
DESCRIPTION:Dela detta:FacebookLinkedInE-postTwitterMerPinterestSkriv utTumblrRedditGilla detta:Gilla Laddar in …
URL:https://www.familjennorberg.se/event/norberg-4/
END:VEVENT
BEGIN:VEVENT
DTSTART;VALUE=DATE:20250104
DTEND;VALUE=DATE:20250401
DTSTAMP:20260425T185325
CREATED:20250114T213723Z
LAST-MODIFIED:20250114T213723Z
UID:1729-1735948800-1743465599@www.familjennorberg.se
SUMMARY:Stina
DESCRIPTION:Dela detta:FacebookLinkedInE-postTwitterMerPinterestSkriv utTumblrRedditGilla detta:Gilla Laddar in …
URL:https://www.familjennorberg.se/event/stina/
END:VEVENT
BEGIN:VEVENT
DTSTART;VALUE=DATE:20241021
DTEND;VALUE=DATE:20241029
DTSTAMP:20260425T185325
CREATED:20240122T184635Z
LAST-MODIFIED:20240122T184635Z
UID:1702-1729468800-1730159999@www.familjennorberg.se
SUMMARY:Artur
DESCRIPTION:Dela detta:FacebookLinkedInE-postTwitterMerPinterestSkriv utTumblrRedditGilla detta:Gilla Laddar in …
URL:https://www.familjennorberg.se/event/artur-2/
END:VEVENT
BEGIN:VEVENT
DTSTART;VALUE=DATE:20240920
DTEND;VALUE=DATE:20241021
DTSTAMP:20260425T185325
CREATED:20240122T184844Z
LAST-MODIFIED:20240122T184844Z
UID:1704-1726790400-1729468799@www.familjennorberg.se
SUMMARY:Ingegerd (prel)
DESCRIPTION:Dela detta:FacebookLinkedInE-postTwitterMerPinterestSkriv utTumblrRedditGilla detta:Gilla Laddar in …
URL:https://www.familjennorberg.se/event/ingegerd-prel/
END:VEVENT
BEGIN:VEVENT
DTSTART;TZID=Europe/Paris:20240812T233000
DTEND;TZID=Europe/Paris:20240905T070000
DTSTAMP:20260425T185325
CREATED:20231119T101020Z
LAST-MODIFIED:20231119T101020Z
UID:1694-1723505400-1725519600@www.familjennorberg.se
SUMMARY:Thomas
DESCRIPTION:Dela detta:FacebookLinkedInE-postTwitterMerPinterestSkriv utTumblrRedditGilla detta:Gilla Laddar in …
URL:https://www.familjennorberg.se/event/thomas/
END:VEVENT
BEGIN:VEVENT
DTSTART;TZID=Europe/Paris:20240715T233000
DTEND;TZID=Europe/Paris:20240724T235900
DTSTAMP:20260425T185325
CREATED:20240113T092453Z
LAST-MODIFIED:20240531T084430Z
UID:1699-1721086200-1721865540@www.familjennorberg.se
SUMMARY:Stefan
DESCRIPTION:Dela detta:FacebookLinkedInE-postTwitterMerPinterestSkriv utTumblrRedditGilla detta:Gilla Laddar in …
URL:https://www.familjennorberg.se/event/stefan/
END:VEVENT
BEGIN:VEVENT
DTSTART;TZID=Europe/Paris:20240709T150000
DTEND;TZID=Europe/Paris:20240715T130000
DTSTAMP:20260425T185325
CREATED:20240531T083904Z
LAST-MODIFIED:20240531T084152Z
UID:1714-1720537200-1721048400@www.familjennorberg.se
SUMMARY:Joachim
DESCRIPTION:Dela detta:FacebookLinkedInE-postTwitterMerPinterestSkriv utTumblrRedditGilla detta:Gilla Laddar in …
URL:https://www.familjennorberg.se/event/joachim/
END:VEVENT
BEGIN:VEVENT
DTSTART;VALUE=DATE:20240701
DTEND;VALUE=DATE:20240709
DTSTAMP:20260425T185325
CREATED:20240210T092931Z
LAST-MODIFIED:20240210T092931Z
UID:1711-1719792000-1720483199@www.familjennorberg.se
SUMMARY:Mia
DESCRIPTION:Dela detta:FacebookLinkedInE-postTwitterMerPinterestSkriv utTumblrRedditGilla detta:Gilla Laddar in …
URL:https://www.familjennorberg.se/event/mia/
END:VEVENT
BEGIN:VEVENT
DTSTART;VALUE=DATE:20240622
DTEND;VALUE=DATE:20240701
DTSTAMP:20260425T185325
CREATED:20240124T214520Z
LAST-MODIFIED:20240613T060102Z
UID:1706-1719014400-1719791999@www.familjennorberg.se
SUMMARY:Oskar Linn
DESCRIPTION:Dela detta:FacebookLinkedInE-postTwitterMerPinterestSkriv utTumblrRedditGilla detta:Gilla Laddar in …
URL:https://www.familjennorberg.se/event/aaron-julia/
END:VEVENT
BEGIN:VEVENT
DTSTART;VALUE=DATE:20240511
DTEND;VALUE=DATE:20240520
DTSTAMP:20260425T185325
CREATED:20240205T200459Z
LAST-MODIFIED:20240205T200459Z
UID:1709-1715385600-1716163199@www.familjennorberg.se
SUMMARY:Norberg
DESCRIPTION:Dela detta:FacebookLinkedInE-postTwitterMerPinterestSkriv utTumblrRedditGilla detta:Gilla Laddar in …
URL:https://www.familjennorberg.se/event/norberg-3/
END:VEVENT
BEGIN:VEVENT
DTSTART;VALUE=DATE:20231107
DTEND;VALUE=DATE:20231115
DTSTAMP:20260425T185325
CREATED:20230406T101239Z
LAST-MODIFIED:20230406T101239Z
UID:1680-1699315200-1700006399@www.familjennorberg.se
SUMMARY:Artur
DESCRIPTION:Dela detta:FacebookLinkedInE-postTwitterMerPinterestSkriv utTumblrRedditGilla detta:Gilla Laddar in …
URL:https://www.familjennorberg.se/event/artur/
END:VEVENT
BEGIN:VEVENT
DTSTART;TZID=Europe/Paris:20231002T080000
DTEND;TZID=Europe/Paris:20231028T170000
DTSTAMP:20260425T185325
CREATED:20230507T115401Z
LAST-MODIFIED:20230507T115401Z
UID:1683-1696233600-1698512400@www.familjennorberg.se
SUMMARY:IÅ
DESCRIPTION:Dela detta:FacebookLinkedInE-postTwitterMerPinterestSkriv utTumblrRedditGilla detta:Gilla Laddar in …
URL:https://www.familjennorberg.se/event/ia/
END:VEVENT
BEGIN:VEVENT
DTSTART;TZID=Europe/Paris:20230815T120000
DTEND;TZID=Europe/Paris:20230906T060000
DTSTAMP:20260425T185325
CREATED:20220808T091507Z
LAST-MODIFIED:20230123T152659Z
UID:1620-1692100800-1693980000@www.familjennorberg.se
SUMMARY:Norberg
DESCRIPTION:Semester \nDela detta:FacebookLinkedInE-postTwitterMerPinterestSkriv utTumblrRedditGilla detta:Gilla Laddar in …
URL:https://www.familjennorberg.se/event/norberg/
LOCATION:Gran Alacant\, Spanien
END:VEVENT
BEGIN:VEVENT
DTSTART;TZID=Europe/Paris:20230810T080000
DTEND;TZID=Europe/Paris:20230817T170000
DTSTAMP:20260425T185325
CREATED:20230125T070646Z
LAST-MODIFIED:20230402T140438Z
UID:1666-1691654400-1692291600@www.familjennorberg.se
SUMMARY:Preliminert bokad av Norberg
DESCRIPTION:Denna vecka är kanske upptagen. \nDela detta:FacebookLinkedInE-postTwitterMerPinterestSkriv utTumblrRedditGilla detta:Gilla Laddar in …
URL:https://www.familjennorberg.se/event/eventuellt-bokad-av-norberg/
END:VEVENT
BEGIN:VEVENT
DTSTART;VALUE=DATE:20230608
DTEND;VALUE=DATE:20230617
DTSTAMP:20260425T185325
CREATED:20230402T140319Z
LAST-MODIFIED:20230402T140319Z
UID:1678-1686182400-1686959999@www.familjennorberg.se
SUMMARY:Norberg
DESCRIPTION:Dela detta:FacebookLinkedInE-postTwitterMerPinterestSkriv utTumblrRedditGilla detta:Gilla Laddar in …
URL:https://www.familjennorberg.se/event/norberg-2/
END:VEVENT
BEGIN:VEVENT
DTSTART;TZID=Europe/Paris:20230528T080000
DTEND;TZID=Europe/Paris:20230608T170000
DTSTAMP:20260425T185325
CREATED:20230228T142910Z
LAST-MODIFIED:20230228T142910Z
UID:1672-1685260800-1686243600@www.familjennorberg.se
SUMMARY:Kirby
DESCRIPTION:Dela detta:FacebookLinkedInE-postTwitterMerPinterestSkriv utTumblrRedditGilla detta:Gilla Laddar in …
URL:https://www.familjennorberg.se/event/kirby/
END:VEVENT
BEGIN:VEVENT
DTSTART;VALUE=DATE:20230402
DTEND;VALUE=DATE:20230420
DTSTAMP:20260425T185325
CREATED:20230402T135953Z
LAST-MODIFIED:20230402T135953Z
UID:1676-1680393600-1681948799@www.familjennorberg.se
SUMMARY:Kirby
DESCRIPTION:Dela detta:FacebookLinkedInE-postTwitterMerPinterestSkriv utTumblrRedditGilla detta:Gilla Laddar in …
URL:https://www.familjennorberg.se/event/kirby-2/
END:VEVENT
BEGIN:VEVENT
DTSTART;VALUE=DATE:20220913
DTEND;VALUE=DATE:20220930
DTSTAMP:20260425T185325
CREATED:20220808T094117Z
LAST-MODIFIED:20220808T094117Z
UID:1627-1663027200-1664495999@www.familjennorberg.se
SUMMARY:Skarin
DESCRIPTION:Dela detta:FacebookLinkedInE-postTwitterMerPinterestSkriv utTumblrRedditGilla detta:Gilla Laddar in …
URL:https://www.familjennorberg.se/event/skarin/
LOCATION:Gran Alacant\, Spanien
END:VEVENT
END:VCALENDAR