BEGIN:VCALENDAR
VERSION:2.0
PRODID:-//Familjen Norberg - ECPv6.6.4.2//NONSGML v1.0//EN
CALSCALE:GREGORIAN
METHOD:PUBLISH
X-WR-CALNAME:Familjen Norberg
X-ORIGINAL-URL:https://www.familjennorberg.se
X-WR-CALDESC:Events for Familjen Norberg
REFRESH-INTERVAL;VALUE=DURATION:PT1H
X-Robots-Tag:noindex
X-PUBLISHED-TTL:PT1H
BEGIN:VTIMEZONE
TZID:Europe/Paris
BEGIN:DAYLIGHT
TZOFFSETFROM:+0100
TZOFFSETTO:+0200
TZNAME:CEST
DTSTART:20220327T010000
END:DAYLIGHT
BEGIN:STANDARD
TZOFFSETFROM:+0200
TZOFFSETTO:+0100
TZNAME:CET
DTSTART:20221030T010000
END:STANDARD
BEGIN:DAYLIGHT
TZOFFSETFROM:+0100
TZOFFSETTO:+0200
TZNAME:CEST
DTSTART:20230326T010000
END:DAYLIGHT
BEGIN:STANDARD
TZOFFSETFROM:+0200
TZOFFSETTO:+0100
TZNAME:CET
DTSTART:20231029T010000
END:STANDARD
BEGIN:DAYLIGHT
TZOFFSETFROM:+0100
TZOFFSETTO:+0200
TZNAME:CEST
DTSTART:20240331T010000
END:DAYLIGHT
BEGIN:STANDARD
TZOFFSETFROM:+0200
TZOFFSETTO:+0100
TZNAME:CET
DTSTART:20241027T010000
END:STANDARD
END:VTIMEZONE
BEGIN:VEVENT
DTSTART;VALUE=DATE:20240622
DTEND;VALUE=DATE:20240701
DTSTAMP:20260425T235550
CREATED:20240124T214520Z
LAST-MODIFIED:20240613T060102Z
UID:1706-1719014400-1719791999@www.familjennorberg.se
SUMMARY:Oskar Linn
DESCRIPTION:Dela detta:FacebookLinkedInE-postTwitterMerPinterestSkriv utTumblrRedditGilla detta:Gilla Laddar in …
URL:https://www.familjennorberg.se/event/aaron-julia/
END:VEVENT
BEGIN:VEVENT
DTSTART;VALUE=DATE:20240511
DTEND;VALUE=DATE:20240520
DTSTAMP:20260425T235550
CREATED:20240205T200459Z
LAST-MODIFIED:20240205T200459Z
UID:1709-1715385600-1716163199@www.familjennorberg.se
SUMMARY:Norberg
DESCRIPTION:Dela detta:FacebookLinkedInE-postTwitterMerPinterestSkriv utTumblrRedditGilla detta:Gilla Laddar in …
URL:https://www.familjennorberg.se/event/norberg-3/
END:VEVENT
BEGIN:VEVENT
DTSTART;VALUE=DATE:20231107
DTEND;VALUE=DATE:20231115
DTSTAMP:20260425T235550
CREATED:20230406T101239Z
LAST-MODIFIED:20230406T101239Z
UID:1680-1699315200-1700006399@www.familjennorberg.se
SUMMARY:Artur
DESCRIPTION:Dela detta:FacebookLinkedInE-postTwitterMerPinterestSkriv utTumblrRedditGilla detta:Gilla Laddar in …
URL:https://www.familjennorberg.se/event/artur/
END:VEVENT
BEGIN:VEVENT
DTSTART;TZID=Europe/Paris:20231002T080000
DTEND;TZID=Europe/Paris:20231028T170000
DTSTAMP:20260425T235550
CREATED:20230507T115401Z
LAST-MODIFIED:20230507T115401Z
UID:1683-1696233600-1698512400@www.familjennorberg.se
SUMMARY:IÅ
DESCRIPTION:Dela detta:FacebookLinkedInE-postTwitterMerPinterestSkriv utTumblrRedditGilla detta:Gilla Laddar in …
URL:https://www.familjennorberg.se/event/ia/
END:VEVENT
BEGIN:VEVENT
DTSTART;TZID=Europe/Paris:20230815T120000
DTEND;TZID=Europe/Paris:20230906T060000
DTSTAMP:20260425T235550
CREATED:20220808T091507Z
LAST-MODIFIED:20230123T152659Z
UID:1620-1692100800-1693980000@www.familjennorberg.se
SUMMARY:Norberg
DESCRIPTION:Semester \nDela detta:FacebookLinkedInE-postTwitterMerPinterestSkriv utTumblrRedditGilla detta:Gilla Laddar in …
URL:https://www.familjennorberg.se/event/norberg/
LOCATION:Gran Alacant\, Spanien
END:VEVENT
BEGIN:VEVENT
DTSTART;TZID=Europe/Paris:20230810T080000
DTEND;TZID=Europe/Paris:20230817T170000
DTSTAMP:20260425T235550
CREATED:20230125T070646Z
LAST-MODIFIED:20230402T140438Z
UID:1666-1691654400-1692291600@www.familjennorberg.se
SUMMARY:Preliminert bokad av Norberg
DESCRIPTION:Denna vecka är kanske upptagen. \nDela detta:FacebookLinkedInE-postTwitterMerPinterestSkriv utTumblrRedditGilla detta:Gilla Laddar in …
URL:https://www.familjennorberg.se/event/eventuellt-bokad-av-norberg/
END:VEVENT
BEGIN:VEVENT
DTSTART;VALUE=DATE:20230608
DTEND;VALUE=DATE:20230617
DTSTAMP:20260425T235550
CREATED:20230402T140319Z
LAST-MODIFIED:20230402T140319Z
UID:1678-1686182400-1686959999@www.familjennorberg.se
SUMMARY:Norberg
DESCRIPTION:Dela detta:FacebookLinkedInE-postTwitterMerPinterestSkriv utTumblrRedditGilla detta:Gilla Laddar in …
URL:https://www.familjennorberg.se/event/norberg-2/
END:VEVENT
BEGIN:VEVENT
DTSTART;TZID=Europe/Paris:20230528T080000
DTEND;TZID=Europe/Paris:20230608T170000
DTSTAMP:20260425T235550
CREATED:20230228T142910Z
LAST-MODIFIED:20230228T142910Z
UID:1672-1685260800-1686243600@www.familjennorberg.se
SUMMARY:Kirby
DESCRIPTION:Dela detta:FacebookLinkedInE-postTwitterMerPinterestSkriv utTumblrRedditGilla detta:Gilla Laddar in …
URL:https://www.familjennorberg.se/event/kirby/
END:VEVENT
BEGIN:VEVENT
DTSTART;VALUE=DATE:20230402
DTEND;VALUE=DATE:20230420
DTSTAMP:20260425T235550
CREATED:20230402T135953Z
LAST-MODIFIED:20230402T135953Z
UID:1676-1680393600-1681948799@www.familjennorberg.se
SUMMARY:Kirby
DESCRIPTION:Dela detta:FacebookLinkedInE-postTwitterMerPinterestSkriv utTumblrRedditGilla detta:Gilla Laddar in …
URL:https://www.familjennorberg.se/event/kirby-2/
END:VEVENT
BEGIN:VEVENT
DTSTART;VALUE=DATE:20220913
DTEND;VALUE=DATE:20220930
DTSTAMP:20260425T235550
CREATED:20220808T094117Z
LAST-MODIFIED:20220808T094117Z
UID:1627-1663027200-1664495999@www.familjennorberg.se
SUMMARY:Skarin
DESCRIPTION:Dela detta:FacebookLinkedInE-postTwitterMerPinterestSkriv utTumblrRedditGilla detta:Gilla Laddar in …
URL:https://www.familjennorberg.se/event/skarin/
LOCATION:Gran Alacant\, Spanien
END:VEVENT
END:VCALENDAR